Workbook

Sheet Dienstplan
A1: Dienstplan | Z1: Vorlage von AssistenzFlow · assistenzflow.de
A2: Jahr | B2: 2026 | K2: Jahr, Monat und Bundesland wählen: Tage, Wochenenden und Feiertage stellen sich selbst ein. Je Tag das Kürzel aus der Legende eintragen. „Std.“ zählt die Stunden je Kraft, „Std. am Tag“ die Stunden je Tag.
A3: Monat | B3: Dezember
A4: Bundesland | B4: Baden-Württemberg
A6: Feiertag | B6: =IF(B$7="","",IFERROR(VLOOKUP(B$7*100+Listen!$F$3,Feiertage!$A$2:$C$400,3,0),IFERROR(VLOOKUP(B$7*100,Feiertage!$A$2:$C$400,3,0),""))) | C6: =IF(C$7="","",IFERROR(VLOOKUP(C$7*100+Listen!$F$3,Feiertage!$A$2:$C$400,3,0),IFERROR(VLOOKUP(C$7*100,Feiertage!$A$2:$C$400,3,0),""))) | D6: =IF(D$7="","",IFERROR(VLOOKUP(D$7*100+Listen!$F$3,Feiertage!$A$2:$C$400,3,0),IFERROR(VLOOKUP(D$7*100,Feiertage!$A$2:$C$400,3,0),""))) | E6: =IF(E$7="","",IFERROR(VLOOKUP(E$7*100+Listen!$F$3,Feiertage!$A$2:$C$400,3,0),IFERROR(VLOOKUP(E$7*100,Feiertage!$A$2:$C$400,3,0),""))) | F6: =IF(F$7="","",IFERROR(VLOOKUP(F$7*100+Listen!$F$3,Feiertage!$A$2:$C$400,3,0),IFERROR(VLOOKUP(F$7*100,Feiertage!$A$2:$C$400,3,0),""))) | G6: =IF(G$7="","",IFERROR(VLOOKUP(G$7*100+Listen!$F$3,Feiertage!$A$2:$C$400,3,0),IFERROR(VLOOKUP(G$7*100,Feiertage!$A$2:$C$400,3,0),""))) | H6: =IF(H$7="","",IFERROR(VLOOKUP(H$7*100+Listen!$F$3,Feiertage!$A$2:$C$400,3,0),IFERROR(VLOOKUP(H$7*100,Feiertage!$A$2:$C$400,3,0),""))) | I6: =IF(I$7="","",IFERROR(VLOOKUP(I$7*100+Listen!$F$3,Feiertage!$A$2:$C$400,3,0),IFERROR(VLOOKUP(I$7*100,Feiertage!$A$2:$C$400,3,0),""))) | ... AF6: =IF(AF$7="","",IFERROR(VLOOKUP(AF$7*100+Listen!$F$3,Feiertage!$A$2:$C$400,3,0),IFERROR(VLOOKUP(AF$7*100,Feiertage!$A$2:$C$400,3,0),"")))
A7: Tag | B7: =IF(MONTH(DATE($B$2,Listen!$F$2,1))=Listen!$F$2,DATE($B$2,Listen!$F$2,1),"") | C7: =IF(MONTH(DATE($B$2,Listen!$F$2,2))=Listen!$F$2,DATE($B$2,Listen!$F$2,2),"") | D7: =IF(MONTH(DATE($B$2,Listen!$F$2,3))=Listen!$F$2,DATE($B$2,Listen!$F$2,3),"") | E7: =IF(MONTH(DATE($B$2,Listen!$F$2,4))=Listen!$F$2,DATE($B$2,Listen!$F$2,4),"") | F7: =IF(MONTH(DATE($B$2,Listen!$F$2,5))=Listen!$F$2,DATE($B$2,Listen!$F$2,5),"") | G7: =IF(MONTH(DATE($B$2,Listen!$F$2,6))=Listen!$F$2,DATE($B$2,Listen!$F$2,6),"") | H7: =IF(MONTH(DATE($B$2,Listen!$F$2,7))=Listen!$F$2,DATE($B$2,Listen!$F$2,7),"") | I7: =IF(MONTH(DATE($B$2,Listen!$F$2,8))=Listen!$F$2,DATE($B$2,Listen!$F$2,8),"") | J7: =IF(MONTH(DATE($B$2,Listen!$F$2,9))=Listen!$F$2,DATE($B$2,Listen!$F$2,9),"") | K7: =IF(MONTH(DATE($B$2,Listen!$F$2,10))=Listen!$F$2,DATE($B$2,Listen!$F$2,10),"") | L7: =IF(MONTH(DATE($B$2,Listen!$F$2,11))=Listen!$F$2,DATE($B$2,Listen!$F$2,11),"") | M7: =IF(MONTH(DATE($B$2,Listen!$F$2,12))=Listen!$F$2,DATE($B$2,Listen!$F$2,12),"") | N7: =IF(MONTH(DATE($B$2,Listen!$F$2,13))=Listen!$F$2,DATE($B$2,Listen!$F$2,13),"") | O7: =IF(MONTH(DATE($B$2,Listen!$F$2,14))=Listen!$F$2,DATE($B$2,Listen!$F$2,14),"") | P7: =IF(MONTH(DATE($B$2,Listen!$F$2,15))=Listen!$F$2,DATE($B$2,Listen!$F$2,15),"") | Q7: =IF(MONTH(DATE($B$2,Listen!$F$2,16))=Listen!$F$2,DATE($B$2,Listen!$F$2,16),"") | R7: =IF(MONTH(DATE($B$2,Listen!$F$2,17))=Listen!$F$2,DATE($B$2,Listen!$F$2,17),"") | S7: =IF(MONTH(DATE($B$2,Listen!$F$2,18))=Listen!$F$2,DATE($B$2,Listen!$F$2,18),"") | T7: =IF(MONTH(DATE($B$2,Listen!$F$2,19))=Listen!$F$2,DATE($B$2,Listen!$F$2,19),"") | U7: =IF(MONTH(DATE($B$2,Listen!$F$2,20))=Listen!$F$2,DATE($B$2,Listen!$F$2,20),"") | V7: =IF(MONTH(DATE($B$2,Listen!$F$2,21))=Listen!$F$2,DATE($B$2,Listen!$F$2,21),"") | W7: =IF(MONTH(DATE($B$2,Listen!$F$2,22))=Listen!$F$2,DATE($B$2,Listen!$F$2,22),"") | X7: =IF(MONTH(DATE($B$2,Listen!$F$2,23))=Listen!$F$2,DATE($B$2,Listen!$F$2,23),"") | Y7: =IF(MONTH(DATE($B$2,Listen!$F$2,24))=Listen!$F$2,DATE($B$2,Listen!$F$2,24),"") | Z7: =IF(MONTH(DATE($B$2,Listen!$F$2,25))=Listen!$F$2,DATE($B$2,Listen!$F$2,25),"") | AA7: =IF(MONTH(DATE($B$2,Listen!$F$2,26))=Listen!$F$2,DATE($B$2,Listen!$F$2,26),"") | AB7: =IF(MONTH(DATE($B$2,Listen!$F$2,27))=Listen!$F$2,DATE($B$2,Listen!$F$2,27),"") | AC7: =IF(MONTH(DATE($B$2,Listen!$F$2,28))=Listen!$F$2,DATE($B$2,Listen!$F$2,28),"") | AD7: =IF(MONTH(DATE($B$2,Listen!$F$2,29))=Listen!$F$2,DATE($B$2,Listen!$F$2,29),"") | AE7: =IF(MONTH(DATE($B$2,Listen!$F$2,30))=Listen!$F$2,DATE($B$2,Listen!$F$2,30),"") | AF7: =IF(MONTH(DATE($B$2,Listen!$F$2,31))=Listen!$F$2,DATE($B$2,Listen!$F$2,31),"") | AG7: Std. | AH7: Soll | AI7: +/–
B8: =B7 | C8: =C7 | D8: =D7 | E8: =E7 | F8: =F7 | G8: =G7 | H8: =H7 | I8: =I7 | ... AF8: =AF7
A9: Beispiel: Anna | B9: T | C9: T | F9: N | G9: N | AG9: =IF(COUNTA(B9:AF9)=0,"",SUM(Rechnung!B9:AF9)) | AI9: =IF(OR(AG9="",AH9=""),"",AG9-AH9)
A10: Beispiel: Ben | B10: N | C10: N | D10: T | E10: T | H10: 24 | AG10: =IF(COUNTA(B10:AF10)=0,"",SUM(Rechnung!B10:AF10)) | AI10: =IF(OR(AG10="",AH10=""),"",AG10-AH10)
AG11: =IF(COUNTA(B11:AF11)=0,"",SUM(Rechnung!B11:AF11)) | AI11: =IF(OR(AG11="",AH11=""),"",AG11-AH11)
AG12: =IF(COUNTA(B12:AF12)=0,"",SUM(Rechnung!B12:AF12)) | AI12: =IF(OR(AG12="",AH12=""),"",AG12-AH12)
AG13: =IF(COUNTA(B13:AF13)=0,"",SUM(Rechnung!B13:AF13)) | AI13: =IF(OR(AG13="",AH13=""),"",AG13-AH13)
AG14: =IF(COUNTA(B14:AF14)=0,"",SUM(Rechnung!B14:AF14)) | AI14: =IF(OR(AG14="",AH14=""),"",AG14-AH14)
AG15: =IF(COUNTA(B15:AF15)=0,"",SUM(Rechnung!B15:AF15)) | AI15: =IF(OR(AG15="",AH15=""),"",AG15-AH15)
AG16: =IF(COUNTA(B16:AF16)=0,"",SUM(Rechnung!B16:AF16)) | AI16: =IF(OR(AG16="",AH16=""),"",AG16-AH16)
AG17: =IF(COUNTA(B17:AF17)=0,"",SUM(Rechnung!B17:AF17)) | AI17: =IF(OR(AG17="",AH17=""),"",AG17-AH17)
AG18: =IF(COUNTA(B18:AF18)=0,"",SUM(Rechnung!B18:AF18)) | AI18: =IF(OR(AG18="",AH18=""),"",AG18-AH18)
A19: Std. am Tag | B19: =IF(B$7="","",SUM(Rechnung!B9:B18)) | C19: =IF(C$7="","",SUM(Rechnung!C9:C18)) | D19: =IF(D$7="","",SUM(Rechnung!D9:D18)) | E19: =IF(E$7="","",SUM(Rechnung!E9:E18)) | F19: =IF(F$7="","",SUM(Rechnung!F9:F18)) | G19: =IF(G$7="","",SUM(Rechnung!G9:G18)) | H19: =IF(H$7="","",SUM(Rechnung!H9:H18)) | I19: =IF(I$7="","",SUM(Rechnung!I9:I18)) | ... AF19: =IF(AF$7="","",SUM(Rechnung!AF9:AF18)) | AG19: =SUM(AG9:AG18)
A21: Legende
A22: Bezeichnung | B22: Kz. | C22: Beginn | E22: Ende | G22: Std. | J22: So geht's • Kürzel groß oder klein eintragen; eigene Schichten in den freien Legendenzeilen anlegen. • Die Stunden einer Schicht rechnet die Legende aus Beginn und Ende. Für Urlaub (U) und Krankheit (K) die Stunden je Tag selbst eintragen, z. B. laut Arbeitsvertrag. • Bei 24-Stunden-Assistenz sollte in „Std. am Tag“ jeden Tag 24 stehen. • Regionale Feiertage im Blatt „Feiertage“ ergänzen. Kostenlose Vorlage von AssistenzFlow. Wünsche, Urlaub, Zuschläge nach § 3b EStG und die Lohnvorbereitung übernimmt die App: assistenzflow.de
A23: Tagdienst | B23: T | C23: 0.33333333 | E23: 0.83333333 | G23: =IF(OR(C23="",E23=""),"",ROUND(IF(E23>C23,E23-C23,E23-C23+1)*24,2))
A24: Nachtdienst | B24: N | C24: 0.83333333 | E24: 0.33333333 | G24: =IF(OR(C24="",E24=""),"",ROUND(IF(E24>C24,E24-C24,E24-C24+1)*24,2))
A25: 24-Stunden-Dienst | B25: 24 | C25: 0.33333333 | E25: 0.33333333 | G25: =IF(OR(C25="",E25=""),"",ROUND(IF(E25>C25,E25-C25,E25-C25+1)*24,2))
A26: Frühdienst | B26: F | C26: 0.25 | E26: 0.58333333 | G26: =IF(OR(C26="",E26=""),"",ROUND(IF(E26>C26,E26-C26,E26-C26+1)*24,2))
A27: Spätdienst | B27: S | C27: 0.58333333 | E27: 0.91666667 | G27: =IF(OR(C27="",E27=""),"",ROUND(IF(E27>C27,E27-C27,E27-C27+1)*24,2))
A28: Urlaub | B28: U | G28: =IF(OR(C28="",E28=""),"",ROUND(IF(E28>C28,E28-C28,E28-C28+1)*24,2))
A29: Krank | B29: K | G29: =IF(OR(C29="",E29=""),"",ROUND(IF(E29>C29,E29-C29,E29-C29+1)*24,2))
G30: =IF(OR(C30="",E30=""),"",ROUND(IF(E30>C30,E30-C30,E30-C30+1)*24,2))
G31: =IF(OR(C31="",E31=""),"",ROUND(IF(E31>C31,E31-C31,E31-C31+1)*24,2))
G32: =IF(OR(C32="",E32=""),"",ROUND(IF(E32>C32,E32-C32,E32-C32+1)*24,2))

Sheet Listen
A1: Monat | B1: Bundesland | C1: Jahr | E1: Hilfswerte
A2: Januar | B2: Baden-Württemberg | C2: 2026 | E2: Monat Nr. | F2: =MATCH(Dienstplan!$B$3,$A$2:$A$13,0)
A3: Februar | B3: Bayern | C3: 2027 | E3: Bundesland Nr. | F3: =IFERROR(MATCH(Dienstplan!$B$4,$B$2:$B$17,0),0)
A4: März | B4: Berlin | C4: 2028
A5: April | B5: Brandenburg | C5: 2029
A6: Mai | B6: Bremen | C6: 2030
A7: Juni | B7: Hamburg
A8: Juli | B8: Hessen
A9: August | B9: Mecklenburg-Vorpommern
A10: September | B10: Niedersachsen
A11: Oktober | B11: Nordrhein-Westfalen
A12: November | B12: Rheinland-Pfalz
A13: Dezember | B13: Saarland
B14: Sachsen
B15: Sachsen-Anhalt
B16: Schleswig-Holstein
B17: Thüringen

Sheet Feiertage
A1: Schlüssel | B1: Datum | C1: Feiertag | D1: Gilt in | F1: Gesetzliche Feiertage 2026 bis 2030, Stand Oktober 2026, ohne Gewähr.
A2: =IF(B2="","",B2*100+IFERROR(MATCH(D2,Listen!$B$2:$B$17,0),0)) | B2: 46023 | C2: Neujahr | D2: alle | F2: Regionale Feiertage (z. B. Fronleichnam in Teilen Sachsens und Thüringens, Mariä Himmelfahrt in Teilen Bayerns, Augsburger Friedensfest) unten selbst ergänzen:
A3: =IF(B3="","",B3*100+IFERROR(MATCH(D3,Listen!$B$2:$B$17,0),0)) | B3: 46028 | C3: Heilige Drei Könige | D3: Baden-Württemberg | F3: Datum, Name und Bundesland eintragen (oder „alle“).
A4: =IF(B4="","",B4*100+IFERROR(MATCH(D4,Listen!$B$2:$B$17,0),0)) | B4: 46028 | C4: Heilige Drei Könige | D4: Bayern
A5: =IF(B5="","",B5*100+IFERROR(MATCH(D5,Listen!$B$2:$B$17,0),0)) | B5: 46028 | C5: Heilige Drei Könige | D5: Sachsen-Anhalt
A6: =IF(B6="","",B6*100+IFERROR(MATCH(D6,Listen!$B$2:$B$17,0),0)) | B6: 46089 | C6: Internationaler Frauentag | D6: Berlin
A7: =IF(B7="","",B7*100+IFERROR(MATCH(D7,Listen!$B$2:$B$17,0),0)) | B7: 46089 | C7: Internationaler Frauentag | D7: Mecklenburg-Vorpommern
A8: =IF(B8="","",B8*100+IFERROR(MATCH(D8,Listen!$B$2:$B$17,0),0)) | B8: 46115 | C8: Karfreitag | D8: alle
A9: =IF(B9="","",B9*100+IFERROR(MATCH(D9,Listen!$B$2:$B$17,0),0)) | B9: 46117 | C9: Ostersonntag | D9: Brandenburg
A10: =IF(B10="","",B10*100+IFERROR(MATCH(D10,Listen!$B$2:$B$17,0),0)) | B10: 46118 | C10: Ostermontag | D10: alle
A11: =IF(B11="","",B11*100+IFERROR(MATCH(D11,Listen!$B$2:$B$17,0),0)) | B11: 46143 | C11: Tag der Arbeit | D11: alle
A12: =IF(B12="","",B12*100+IFERROR(MATCH(D12,Listen!$B$2:$B$17,0),0)) | B12: 46156 | C12: Christi Himmelfahrt | D12: alle
A13: =IF(B13="","",B13*100+IFERROR(MATCH(D13,Listen!$B$2:$B$17,0),0)) | B13: 46166 | C13: Pfingstsonntag | D13: Brandenburg
A14: =IF(B14="","",B14*100+IFERROR(MATCH(D14,Listen!$B$2:$B$17,0),0)) | B14: 46167 | C14: Pfingstmontag | D14: alle
A15: =IF(B15="","",B15*100+IFERROR(MATCH(D15,Listen!$B$2:$B$17,0),0)) | B15: 46177 | C15: Fronleichnam | D15: Baden-Württemberg
... A196: =IF(B196="","",B196*100+IFERROR(MATCH(D196,Listen!$B$2:$B$17,0),0)) | B196: 47843 | C196: 2. Weihnachtstag | D196: alle
A197: =IF(B197="","",B197*100+IFERROR(MATCH(D197,Listen!$B$2:$B$17,0),0))
A198: =IF(B198="","",B198*100+IFERROR(MATCH(D198,Listen!$B$2:$B$17,0),0))
A199: =IF(B199="","",B199*100+IFERROR(MATCH(D199,Listen!$B$2:$B$17,0),0))
A200: =IF(B200="","",B200*100+IFERROR(MATCH(D200,Listen!$B$2:$B$17,0),0))
A201: =IF(B201="","",B201*100+IFERROR(MATCH(D201,Listen!$B$2:$B$17,0),0))
A202: =IF(B202="","",B202*100+IFERROR(MATCH(D202,Listen!$B$2:$B$17,0),0))
A203: =IF(B203="","",B203*100+IFERROR(MATCH(D203,Listen!$B$2:$B$17,0),0))
A204: =IF(B204="","",B204*100+IFERROR(MATCH(D204,Listen!$B$2:$B$17,0),0))
A205: =IF(B205="","",B205*100+IFERROR(MATCH(D205,Listen!$B$2:$B$17,0),0))
A206: =IF(B206="","",B206*100+IFERROR(MATCH(D206,Listen!$B$2:$B$17,0),0))
A207: =IF(B207="","",B207*100+IFERROR(MATCH(D207,Listen!$B$2:$B$17,0),0))
A208: =IF(B208="","",B208*100+IFERROR(MATCH(D208,Listen!$B$2:$B$17,0),0))
... A400: =IF(B400="","",B400*100+IFERROR(MATCH(D400,Listen!$B$2:$B$17,0),0))

Sheet Rechnung
B9: =IF(Dienstplan!B9="",0,IFERROR(INDEX(Dienstplan!$G$23:$G$32,MATCH(Dienstplan!B9&"",Dienstplan!$B$23:$B$32,0))+0,0)) | C9: =IF(Dienstplan!C9="",0,IFERROR(INDEX(Dienstplan!$G$23:$G$32,MATCH(Dienstplan!C9&"",Dienstplan!$B$23:$B$32,0))+0,0)) | D9: =IF(Dienstplan!D9="",0,IFERROR(INDEX(Dienstplan!$G$23:$G$32,MATCH(Dienstplan!D9&"",Dienstplan!$B$23:$B$32,0))+0,0)) | E9: =IF(Dienstplan!E9="",0,IFERROR(INDEX(Dienstplan!$G$23:$G$32,MATCH(Dienstplan!E9&"",Dienstplan!$B$23:$B$32,0))+0,0)) | F9: =IF(Dienstplan!F9="",0,IFERROR(INDEX(Dienstplan!$G$23:$G$32,MATCH(Dienstplan!F9&"",Dienstplan!$B$23:$B$32,0))+0,0)) | G9: =IF(Dienstplan!G9="",0,IFERROR(INDEX(Dienstplan!$G$23:$G$32,MATCH(Dienstplan!G9&"",Dienstplan!$B$23:$B$32,0))+0,0)) | H9: =IF(Dienstplan!H9="",0,IFERROR(INDEX(Dienstplan!$G$23:$G$32,MATCH(Dienstplan!H9&"",Dienstplan!$B$23:$B$32,0))+0,0)) | I9: =IF(Dienstplan!I9="",0,IFERROR(INDEX(Dienstplan!$G$23:$G$32,MATCH(Dienstplan!I9&"",Dienstplan!$B$23:$B$32,0))+0,0)) | ... AF9: =IF(Dienstplan!AF9="",0,IFERROR(INDEX(Dienstplan!$G$23:$G$32,MATCH(Dienstplan!AF9&"",Dienstplan!$B$23:$B$32,0))+0,0))
B10: =IF(Dienstplan!B10="",0,IFERROR(INDEX(Dienstplan!$G$23:$G$32,MATCH(Dienstplan!B10&"",Dienstplan!$B$23:$B$32,0))+0,0)) | C10: =IF(Dienstplan!C10="",0,IFERROR(INDEX(Dienstplan!$G$23:$G$32,MATCH(Dienstplan!C10&"",Dienstplan!$B$23:$B$32,0))+0,0)) | D10: =IF(Dienstplan!D10="",0,IFERROR(INDEX(Dienstplan!$G$23:$G$32,MATCH(Dienstplan!D10&"",Dienstplan!$B$23:$B$32,0))+0,0)) | E10: =IF(Dienstplan!E10="",0,IFERROR(INDEX(Dienstplan!$G$23:$G$32,MATCH(Dienstplan!E10&"",Dienstplan!$B$23:$B$32,0))+0,0)) | F10: =IF(Dienstplan!F10="",0,IFERROR(INDEX(Dienstplan!$G$23:$G$32,MATCH(Dienstplan!F10&"",Dienstplan!$B$23:$B$32,0))+0,0)) | G10: =IF(Dienstplan!G10="",0,IFERROR(INDEX(Dienstplan!$G$23:$G$32,MATCH(Dienstplan!G10&"",Dienstplan!$B$23:$B$32,0))+0,0)) | H10: =IF(Dienstplan!H10="",0,IFERROR(INDEX(Dienstplan!$G$23:$G$32,MATCH(Dienstplan!H10&"",Dienstplan!$B$23:$B$32,0))+0,0)) | I10: =IF(Dienstplan!I10="",0,IFERROR(INDEX(Dienstplan!$G$23:$G$32,MATCH(Dienstplan!I10&"",Dienstplan!$B$23:$B$32,0))+0,0)) | ... AF10: =IF(Dienstplan!AF10="",0,IFERROR(INDEX(Dienstplan!$G$23:$G$32,MATCH(Dienstplan!AF10&"",Dienstplan!$B$23:$B$32,0))+0,0))
B11: =IF(Dienstplan!B11="",0,IFERROR(INDEX(Dienstplan!$G$23:$G$32,MATCH(Dienstplan!B11&"",Dienstplan!$B$23:$B$32,0))+0,0)) | C11: =IF(Dienstplan!C11="",0,IFERROR(INDEX(Dienstplan!$G$23:$G$32,MATCH(Dienstplan!C11&"",Dienstplan!$B$23:$B$32,0))+0,0)) | D11: =IF(Dienstplan!D11="",0,IFERROR(INDEX(Dienstplan!$G$23:$G$32,MATCH(Dienstplan!D11&"",Dienstplan!$B$23:$B$32,0))+0,0)) | E11: =IF(Dienstplan!E11="",0,IFERROR(INDEX(Dienstplan!$G$23:$G$32,MATCH(Dienstplan!E11&"",Dienstplan!$B$23:$B$32,0))+0,0)) | F11: =IF(Dienstplan!F11="",0,IFERROR(INDEX(Dienstplan!$G$23:$G$32,MATCH(Dienstplan!F11&"",Dienstplan!$B$23:$B$32,0))+0,0)) | G11: =IF(Dienstplan!G11="",0,IFERROR(INDEX(Dienstplan!$G$23:$G$32,MATCH(Dienstplan!G11&"",Dienstplan!$B$23:$B$32,0))+0,0)) | H11: =IF(Dienstplan!H11="",0,IFERROR(INDEX(Dienstplan!$G$23:$G$32,MATCH(Dienstplan!H11&"",Dienstplan!$B$23:$B$32,0))+0,0)) | I11: =IF(Dienstplan!I11="",0,IFERROR(INDEX(Dienstplan!$G$23:$G$32,MATCH(Dienstplan!I11&"",Dienstplan!$B$23:$B$32,0))+0,0)) | ... AF11: =IF(Dienstplan!AF11="",0,IFERROR(INDEX(Dienstplan!$G$23:$G$32,MATCH(Dienstplan!AF11&"",Dienstplan!$B$23:$B$32,0))+0,0))
B12: =IF(Dienstplan!B12="",0,IFERROR(INDEX(Dienstplan!$G$23:$G$32,MATCH(Dienstplan!B12&"",Dienstplan!$B$23:$B$32,0))+0,0)) | C12: =IF(Dienstplan!C12="",0,IFERROR(INDEX(Dienstplan!$G$23:$G$32,MATCH(Dienstplan!C12&"",Dienstplan!$B$23:$B$32,0))+0,0)) | D12: =IF(Dienstplan!D12="",0,IFERROR(INDEX(Dienstplan!$G$23:$G$32,MATCH(Dienstplan!D12&"",Dienstplan!$B$23:$B$32,0))+0,0)) | E12: =IF(Dienstplan!E12="",0,IFERROR(INDEX(Dienstplan!$G$23:$G$32,MATCH(Dienstplan!E12&"",Dienstplan!$B$23:$B$32,0))+0,0)) | F12: =IF(Dienstplan!F12="",0,IFERROR(INDEX(Dienstplan!$G$23:$G$32,MATCH(Dienstplan!F12&"",Dienstplan!$B$23:$B$32,0))+0,0)) | G12: =IF(Dienstplan!G12="",0,IFERROR(INDEX(Dienstplan!$G$23:$G$32,MATCH(Dienstplan!G12&"",Dienstplan!$B$23:$B$32,0))+0,0)) | H12: =IF(Dienstplan!H12="",0,IFERROR(INDEX(Dienstplan!$G$23:$G$32,MATCH(Dienstplan!H12&"",Dienstplan!$B$23:$B$32,0))+0,0)) | I12: =IF(Dienstplan!I12="",0,IFERROR(INDEX(Dienstplan!$G$23:$G$32,MATCH(Dienstplan!I12&"",Dienstplan!$B$23:$B$32,0))+0,0)) | ... AF12: =IF(Dienstplan!AF12="",0,IFERROR(INDEX(Dienstplan!$G$23:$G$32,MATCH(Dienstplan!AF12&"",Dienstplan!$B$23:$B$32,0))+0,0))
B13: =IF(Dienstplan!B13="",0,IFERROR(INDEX(Dienstplan!$G$23:$G$32,MATCH(Dienstplan!B13&"",Dienstplan!$B$23:$B$32,0))+0,0)) | C13: =IF(Dienstplan!C13="",0,IFERROR(INDEX(Dienstplan!$G$23:$G$32,MATCH(Dienstplan!C13&"",Dienstplan!$B$23:$B$32,0))+0,0)) | D13: =IF(Dienstplan!D13="",0,IFERROR(INDEX(Dienstplan!$G$23:$G$32,MATCH(Dienstplan!D13&"",Dienstplan!$B$23:$B$32,0))+0,0)) | E13: =IF(Dienstplan!E13="",0,IFERROR(INDEX(Dienstplan!$G$23:$G$32,MATCH(Dienstplan!E13&"",Dienstplan!$B$23:$B$32,0))+0,0)) | F13: =IF(Dienstplan!F13="",0,IFERROR(INDEX(Dienstplan!$G$23:$G$32,MATCH(Dienstplan!F13&"",Dienstplan!$B$23:$B$32,0))+0,0)) | G13: =IF(Dienstplan!G13="",0,IFERROR(INDEX(Dienstplan!$G$23:$G$32,MATCH(Dienstplan!G13&"",Dienstplan!$B$23:$B$32,0))+0,0)) | H13: =IF(Dienstplan!H13="",0,IFERROR(INDEX(Dienstplan!$G$23:$G$32,MATCH(Dienstplan!H13&"",Dienstplan!$B$23:$B$32,0))+0,0)) | I13: =IF(Dienstplan!I13="",0,IFERROR(INDEX(Dienstplan!$G$23:$G$32,MATCH(Dienstplan!I13&"",Dienstplan!$B$23:$B$32,0))+0,0)) | ... AF13: =IF(Dienstplan!AF13="",0,IFERROR(INDEX(Dienstplan!$G$23:$G$32,MATCH(Dienstplan!AF13&"",Dienstplan!$B$23:$B$32,0))+0,0))
B14: =IF(Dienstplan!B14="",0,IFERROR(INDEX(Dienstplan!$G$23:$G$32,MATCH(Dienstplan!B14&"",Dienstplan!$B$23:$B$32,0))+0,0)) | C14: =IF(Dienstplan!C14="",0,IFERROR(INDEX(Dienstplan!$G$23:$G$32,MATCH(Dienstplan!C14&"",Dienstplan!$B$23:$B$32,0))+0,0)) | D14: =IF(Dienstplan!D14="",0,IFERROR(INDEX(Dienstplan!$G$23:$G$32,MATCH(Dienstplan!D14&"",Dienstplan!$B$23:$B$32,0))+0,0)) | E14: =IF(Dienstplan!E14="",0,IFERROR(INDEX(Dienstplan!$G$23:$G$32,MATCH(Dienstplan!E14&"",Dienstplan!$B$23:$B$32,0))+0,0)) | F14: =IF(Dienstplan!F14="",0,IFERROR(INDEX(Dienstplan!$G$23:$G$32,MATCH(Dienstplan!F14&"",Dienstplan!$B$23:$B$32,0))+0,0)) | G14: =IF(Dienstplan!G14="",0,IFERROR(INDEX(Dienstplan!$G$23:$G$32,MATCH(Dienstplan!G14&"",Dienstplan!$B$23:$B$32,0))+0,0)) | H14: =IF(Dienstplan!H14="",0,IFERROR(INDEX(Dienstplan!$G$23:$G$32,MATCH(Dienstplan!H14&"",Dienstplan!$B$23:$B$32,0))+0,0)) | I14: =IF(Dienstplan!I14="",0,IFERROR(INDEX(Dienstplan!$G$23:$G$32,MATCH(Dienstplan!I14&"",Dienstplan!$B$23:$B$32,0))+0,0)) | ... AF14: =IF(Dienstplan!AF14="",0,IFERROR(INDEX(Dienstplan!$G$23:$G$32,MATCH(Dienstplan!AF14&"",Dienstplan!$B$23:$B$32,0))+0,0))
B15: =IF(Dienstplan!B15="",0,IFERROR(INDEX(Dienstplan!$G$23:$G$32,MATCH(Dienstplan!B15&"",Dienstplan!$B$23:$B$32,0))+0,0)) | C15: =IF(Dienstplan!C15="",0,IFERROR(INDEX(Dienstplan!$G$23:$G$32,MATCH(Dienstplan!C15&"",Dienstplan!$B$23:$B$32,0))+0,0)) | D15: =IF(Dienstplan!D15="",0,IFERROR(INDEX(Dienstplan!$G$23:$G$32,MATCH(Dienstplan!D15&"",Dienstplan!$B$23:$B$32,0))+0,0)) | E15: =IF(Dienstplan!E15="",0,IFERROR(INDEX(Dienstplan!$G$23:$G$32,MATCH(Dienstplan!E15&"",Dienstplan!$B$23:$B$32,0))+0,0)) | F15: =IF(Dienstplan!F15="",0,IFERROR(INDEX(Dienstplan!$G$23:$G$32,MATCH(Dienstplan!F15&"",Dienstplan!$B$23:$B$32,0))+0,0)) | G15: =IF(Dienstplan!G15="",0,IFERROR(INDEX(Dienstplan!$G$23:$G$32,MATCH(Dienstplan!G15&"",Dienstplan!$B$23:$B$32,0))+0,0)) | H15: =IF(Dienstplan!H15="",0,IFERROR(INDEX(Dienstplan!$G$23:$G$32,MATCH(Dienstplan!H15&"",Dienstplan!$B$23:$B$32,0))+0,0)) | I15: =IF(Dienstplan!I15="",0,IFERROR(INDEX(Dienstplan!$G$23:$G$32,MATCH(Dienstplan!I15&"",Dienstplan!$B$23:$B$32,0))+0,0)) | ... AF15: =IF(Dienstplan!AF15="",0,IFERROR(INDEX(Dienstplan!$G$23:$G$32,MATCH(Dienstplan!AF15&"",Dienstplan!$B$23:$B$32,0))+0,0))
B16: =IF(Dienstplan!B16="",0,IFERROR(INDEX(Dienstplan!$G$23:$G$32,MATCH(Dienstplan!B16&"",Dienstplan!$B$23:$B$32,0))+0,0)) | C16: =IF(Dienstplan!C16="",0,IFERROR(INDEX(Dienstplan!$G$23:$G$32,MATCH(Dienstplan!C16&"",Dienstplan!$B$23:$B$32,0))+0,0)) | D16: =IF(Dienstplan!D16="",0,IFERROR(INDEX(Dienstplan!$G$23:$G$32,MATCH(Dienstplan!D16&"",Dienstplan!$B$23:$B$32,0))+0,0)) | E16: =IF(Dienstplan!E16="",0,IFERROR(INDEX(Dienstplan!$G$23:$G$32,MATCH(Dienstplan!E16&"",Dienstplan!$B$23:$B$32,0))+0,0)) | F16: =IF(Dienstplan!F16="",0,IFERROR(INDEX(Dienstplan!$G$23:$G$32,MATCH(Dienstplan!F16&"",Dienstplan!$B$23:$B$32,0))+0,0)) | G16: =IF(Dienstplan!G16="",0,IFERROR(INDEX(Dienstplan!$G$23:$G$32,MATCH(Dienstplan!G16&"",Dienstplan!$B$23:$B$32,0))+0,0)) | H16: =IF(Dienstplan!H16="",0,IFERROR(INDEX(Dienstplan!$G$23:$G$32,MATCH(Dienstplan!H16&"",Dienstplan!$B$23:$B$32,0))+0,0)) | I16: =IF(Dienstplan!I16="",0,IFERROR(INDEX(Dienstplan!$G$23:$G$32,MATCH(Dienstplan!I16&"",Dienstplan!$B$23:$B$32,0))+0,0)) | ... AF16: =IF(Dienstplan!AF16="",0,IFERROR(INDEX(Dienstplan!$G$23:$G$32,MATCH(Dienstplan!AF16&"",Dienstplan!$B$23:$B$32,0))+0,0))
B17: =IF(Dienstplan!B17="",0,IFERROR(INDEX(Dienstplan!$G$23:$G$32,MATCH(Dienstplan!B17&"",Dienstplan!$B$23:$B$32,0))+0,0)) | C17: =IF(Dienstplan!C17="",0,IFERROR(INDEX(Dienstplan!$G$23:$G$32,MATCH(Dienstplan!C17&"",Dienstplan!$B$23:$B$32,0))+0,0)) | D17: =IF(Dienstplan!D17="",0,IFERROR(INDEX(Dienstplan!$G$23:$G$32,MATCH(Dienstplan!D17&"",Dienstplan!$B$23:$B$32,0))+0,0)) | E17: =IF(Dienstplan!E17="",0,IFERROR(INDEX(Dienstplan!$G$23:$G$32,MATCH(Dienstplan!E17&"",Dienstplan!$B$23:$B$32,0))+0,0)) | F17: =IF(Dienstplan!F17="",0,IFERROR(INDEX(Dienstplan!$G$23:$G$32,MATCH(Dienstplan!F17&"",Dienstplan!$B$23:$B$32,0))+0,0)) | G17: =IF(Dienstplan!G17="",0,IFERROR(INDEX(Dienstplan!$G$23:$G$32,MATCH(Dienstplan!G17&"",Dienstplan!$B$23:$B$32,0))+0,0)) | H17: =IF(Dienstplan!H17="",0,IFERROR(INDEX(Dienstplan!$G$23:$G$32,MATCH(Dienstplan!H17&"",Dienstplan!$B$23:$B$32,0))+0,0)) | I17: =IF(Dienstplan!I17="",0,IFERROR(INDEX(Dienstplan!$G$23:$G$32,MATCH(Dienstplan!I17&"",Dienstplan!$B$23:$B$32,0))+0,0)) | ... AF17: =IF(Dienstplan!AF17="",0,IFERROR(INDEX(Dienstplan!$G$23:$G$32,MATCH(Dienstplan!AF17&"",Dienstplan!$B$23:$B$32,0))+0,0))
B18: =IF(Dienstplan!B18="",0,IFERROR(INDEX(Dienstplan!$G$23:$G$32,MATCH(Dienstplan!B18&"",Dienstplan!$B$23:$B$32,0))+0,0)) | C18: =IF(Dienstplan!C18="",0,IFERROR(INDEX(Dienstplan!$G$23:$G$32,MATCH(Dienstplan!C18&"",Dienstplan!$B$23:$B$32,0))+0,0)) | D18: =IF(Dienstplan!D18="",0,IFERROR(INDEX(Dienstplan!$G$23:$G$32,MATCH(Dienstplan!D18&"",Dienstplan!$B$23:$B$32,0))+0,0)) | E18: =IF(Dienstplan!E18="",0,IFERROR(INDEX(Dienstplan!$G$23:$G$32,MATCH(Dienstplan!E18&"",Dienstplan!$B$23:$B$32,0))+0,0)) | F18: =IF(Dienstplan!F18="",0,IFERROR(INDEX(Dienstplan!$G$23:$G$32,MATCH(Dienstplan!F18&"",Dienstplan!$B$23:$B$32,0))+0,0)) | G18: =IF(Dienstplan!G18="",0,IFERROR(INDEX(Dienstplan!$G$23:$G$32,MATCH(Dienstplan!G18&"",Dienstplan!$B$23:$B$32,0))+0,0)) | H18: =IF(Dienstplan!H18="",0,IFERROR(INDEX(Dienstplan!$G$23:$G$32,MATCH(Dienstplan!H18&"",Dienstplan!$B$23:$B$32,0))+0,0)) | I18: =IF(Dienstplan!I18="",0,IFERROR(INDEX(Dienstplan!$G$23:$G$32,MATCH(Dienstplan!I18&"",Dienstplan!$B$23:$B$32,0))+0,0)) | ... AF18: =IF(Dienstplan!AF18="",0,IFERROR(INDEX(Dienstplan!$G$23:$G$32,MATCH(Dienstplan!AF18&"",Dienstplan!$B$23:$B$32,0))+0,0))
